BEGIN:VCALENDAR
VERSION:2.0
PRODID:-//Contratero//ES
CALSCALE:GREGORIAN
METHOD:PUBLISH
BEGIN:VEVENT
UID:2023/4089 (PASS)@contratero.es
DTSTAMP:20260421T035935Z
DTSTART:20231212T235959
DTEND:20231213T005959
SUMMARY:Cierre: Suministro de licencias FOXIT PDF
DESCRIPTION:Suministro de licencias FOXIT PDF\\n\\nOrganismo: Alcaldia del Ayuntamiento de Arroyo de la Encomienda\\n\\nVer en Contratero: https://contratero.es/contracts/2023/4089 (PASS)
URL:https://contratero.es/contracts/2023/4089 (PASS)
STATUS:CONFIRMED
BEGIN:VALARM
TRIGGER:-P1D
ACTION:DISPLAY
DESCRIPTION:Recordatorio: Suministro de licencias FOXIT 
END:VALARM
END:VEVENT
END:VCALENDAR